BEGIN:VCALENDAR
VERSION:2.0
PRODID:-//Faldonside Eco | Nature-Led Learning, Venue Hire &amp; Rewilding in the Scottish Borders - ECPv6.15.20//NONSGML v1.0//EN
CALSCALE:GREGORIAN
METHOD:PUBLISH
X-WR-CALNAME:Faldonside Eco | Nature-Led Learning, Venue Hire &amp; Rewilding in the Scottish Borders
X-ORIGINAL-URL:https://faldonsideeco.com
X-WR-CALDESC:Events for Faldonside Eco | Nature-Led Learning, Venue Hire &amp; Rewilding in the Scottish Borders
REFRESH-INTERVAL;VALUE=DURATION:PT1H
X-Robots-Tag:noindex
X-PUBLISHED-TTL:PT1H
BEGIN:VTIMEZONE
TZID:Europe/London
BEGIN:DAYLIGHT
TZOFFSETFROM:+0000
TZOFFSETTO:+0100
TZNAME:BST
DTSTART:20240331T010000
END:DAYLIGHT
BEGIN:STANDARD
TZOFFSETFROM:+0100
TZOFFSETTO:+0000
TZNAME:GMT
DTSTART:20241027T010000
END:STANDARD
BEGIN:DAYLIGHT
TZOFFSETFROM:+0000
TZOFFSETTO:+0100
TZNAME:BST
DTSTART:20250330T010000
END:DAYLIGHT
BEGIN:STANDARD
TZOFFSETFROM:+0100
TZOFFSETTO:+0000
TZNAME:GMT
DTSTART:20251026T010000
END:STANDARD
BEGIN:DAYLIGHT
TZOFFSETFROM:+0000
TZOFFSETTO:+0100
TZNAME:BST
DTSTART:20260329T010000
END:DAYLIGHT
BEGIN:STANDARD
TZOFFSETFROM:+0100
TZOFFSETTO:+0000
TZNAME:GMT
DTSTART:20261025T010000
END:STANDARD
END:VTIMEZONE
BEGIN:VEVENT
DTSTART;VALUE=DATE:20250926
DTEND;VALUE=DATE:20250927
DTSTAMP:20260419T235747
CREATED:20250917T103026Z
LAST-MODIFIED:20251009T140634Z
UID:10000011-1758844800-1758931199@faldonsideeco.com
SUMMARY:📸 Mindful Nature Photography
DESCRIPTION:📸 Mindful Nature Photography at Faldonside Eco – September 2025\n  \nCapture Calm: A Mindful Approach to Nature Photography\nSlow down. Breathe in nature. Discover a new way of seeing the world — one moment at a time. \nJoin us this September at Faldonside Eco for a gentle\, grounding workshop in Mindful Nature Photography. Set on our peaceful estate near Melrose in the Scottish Borders\, this unique experience invites you to step away from the noise of everyday life and into a slower\, more intentional way of seeing. \nThis is not a technical photography class — you don’t need expensive gear or prior experience. Just bring yourself and your phone or camera. Through a series of guided prompts\, mindful observation techniques\, and quiet time in nature\, you’ll begin to notice light\, texture\, shape\, colour\, and the small wonders that are so often overlooked. \n🌿 What You’ll Explore:\n\nMindful photography techniques – Use your camera to cultivate calm and focus.\nNature immersion – Explore our meadows\, woodland paths\, and riverside trails with a new lens.\nCreative reflection – Share your favourite images and what they mean to you.\nPresence & Gratitude – Learn how photographing nature can deepen your connection with the moment.\n\nThis workshop is ideal for anyone seeking creative mindfulness\, whether you’re new to photography or simply want to slow down and reconnect with the world around you. \nHeld entirely outdoors\, the session is designed to nurture wellbeing through creativity\, and you’ll leave with a collection of images that reflect your own unique view of the natural world — along with a sense of calm that lingers well beyond the day. \n📩 To find out more or reserve a place\, email karen@faldonsideeco.com \n\n📍 Location: Faldonside Eco\, near Melrose\, Scottish Borders📅 Dates: Friday 12th & 26th September 2025⏰ Time: Morning and afternoon sessions available💷 Cost: TBC – Booking opens soon \nLearn/Event Booking FormInterested in joining one of our hands-on learning events? From eco-construction to foraging and regenerative gardening\, we’d love to welcome you. Fill out the form below to book your place or make an enquiry.Please enable JavaScript in your browser to complete this form.Name *FirstLast		\n			Dietary Questions Notes\n			\n		\n		Email *Phone *AddressAddress Line 1Address Line 2CityState / Province / RegionPostal Code--- Select country ---AfghanistanAlbaniaAlgeriaAmerican SamoaAndorraAngolaAnguillaAntarcticaAntigua and BarbudaArgentinaArmeniaArubaAustraliaAustriaAzerbaijanBahamasBahrainBangladeshBarbadosBelarusBelgiumBelizeBeninBermudaBhutanBolivia (Plurinational State of)Bonaire\, Saint Eustatius and SabaBosnia and HerzegovinaBotswanaBouvet IslandBrazilBritish Indian Ocean TerritoryBrunei DarussalamBulgariaBurkina FasoBurundiCabo VerdeCambodiaCameroonCanadaCayman IslandsCentral African RepublicChadChileChinaChristmas IslandCocos (Keeling) IslandsColombiaComorosCongoCongo (Democratic Republic of the)Cook IslandsCosta RicaCroatiaCubaCuraçaoCyprusCzech RepublicCôte d'IvoireDenmarkDjiboutiDominicaDominican RepublicEcuadorEgyptEl SalvadorEquatorial GuineaEritreaEstoniaEswatini (Kingdom of)EthiopiaFalkland Islands (Malvinas)Faroe IslandsFijiFinlandFranceFrench GuianaFrench PolynesiaFrench Southern TerritoriesGabonGambiaGeorgiaGermanyGhanaGibraltarGreeceGreenlandGrenadaGuadeloupeGuamGuatemalaGuernseyGuineaGuinea-BissauGuyanaHaitiHeard Island and McDonald IslandsHondurasHong KongHungaryIcelandIndiaIndonesiaIran (Islamic Republic of)IraqIreland (Republic of)Isle of ManIsraelItalyJamaicaJapanJerseyJordanKazakhstanKenyaKiribatiKorea (Democratic People's Republic of)Korea (Republic of)KosovoKuwaitKyrgyzstanLao People's Democratic RepublicLatviaLebanonLesothoLiberiaLibyaLiechtensteinLithuaniaLuxembourgMacaoMadagascarMalawiMalaysiaMaldivesMaliMaltaMarshall IslandsMartiniqueMauritaniaMauritiusMayotteMexicoMicronesia (Federated States of)Moldova (Republic of)MonacoMongoliaMontenegroMontserratMoroccoMozambiqueMyanmarNamibiaNauruNepalNetherlandsNew CaledoniaNew ZealandNicaraguaNigerNigeriaNiueNorfolk IslandNorth Macedonia (Republic of)Northern Mariana IslandsNorwayOmanPakistanPalauPalestine (State of)PanamaPapua New GuineaParaguayPeruPhilippinesPitcairnPolandPortugalPuerto RicoQatarRomaniaRussian FederationRwandaRéunionSaint BarthélemySaint Helena\, Ascension and Tristan da CunhaSaint Kitts and NevisSaint LuciaSaint Martin (French part)Saint Pierre and MiquelonSaint Vincent and the GrenadinesSamoaSan MarinoSao Tome and PrincipeSaudi ArabiaSenegalSerbiaSeychellesSierra LeoneSingaporeSint Maarten (Dutch part)SlovakiaSloveniaSolomon IslandsSomaliaSouth AfricaSouth Georgia and the South Sandwich IslandsSouth SudanSpainSri LankaSudanSurinameSvalbard and Jan MayenSwedenSwitzerlandSyrian Arab RepublicTaiwan\, Republic of ChinaTajikistanTanzania (United Republic of)ThailandTimor-LesteTogoTokelauTongaTrinidad and TobagoTunisiaTurkmenistanTurks and Caicos IslandsTuvaluTürkiyeUgandaUkraineUnited Arab EmiratesUnited Kingdom of Great Britain and Northern IrelandUnited States Minor Outlying IslandsUnited States of AmericaUruguayUzbekistanVanuatuVatican City StateVenezuela (Bolivarian Republic of)VietnamVirgin Islands (British)Virgin Islands (U.S.)Wallis and FutunaWestern SaharaYemenZambiaZimbabweÅland IslandsCountryNumber of Participants *Learning Event Title *--- Select Choice ---Soil Health Basics: Regenerate Your Soil Naturally - Feb 20th 2026An Introduction to Food Forests - Feb 6th 2026Nature Club with Lisa McLeish - Dec 13th 2025Green Wood Whittling Skills - Dec 4th 2025Foraged Cocktails & Mocktails - Dec 3rd 2025Herbology: Healing with Plants - Dec 1st 2025Spoon Carving for Beginners - Nov 23rd 2025Sustainable Food & Biodiversity - Nov 7th 2025Halloween Forest School Fun - Oct 31st 2025Mindful Nature Photography - Sept 26th 2025Nature-Friendly Gardening: An Introduction - Sept 24th 2025Introduction to Permaculture Gardening - Sept 19th 2025Dietary RequirementsNotes or QuestionsSubmit
URL:https://faldonsideeco.com/event/mindful-nature-photography/
LOCATION:The Walled Garden\, Faldonside Estate\, Melrose\, Scottish Borders\, TD6 9BG\, United Kingdom
CATEGORIES:Workshops
ATTACH;FMTTYPE=image/avif:https://faldonsideeco.com/wp-content/uploads/2025/09/Photographer.avif
ORGANIZER;CN="FaldonsideEco":MAILTO:info@faldonsideeco.com
END:VEVENT
END:VCALENDAR