BEGIN:VCALENDAR
VERSION:2.0
PRODID:-//Faldonside Eco | Nature-Led Learning, Venue Hire &amp; Rewilding in the Scottish Borders - ECPv6.15.20//NONSGML v1.0//EN
CALSCALE:GREGORIAN
METHOD:PUBLISH
X-ORIGINAL-URL:https://faldonsideeco.com
X-WR-CALDESC:Events for Faldonside Eco | Nature-Led Learning, Venue Hire &amp; Rewilding in the Scottish Borders
REFRESH-INTERVAL;VALUE=DURATION:PT1H
X-Robots-Tag:noindex
X-PUBLISHED-TTL:PT1H
BEGIN:VTIMEZONE
TZID:Europe/London
BEGIN:DAYLIGHT
TZOFFSETFROM:+0000
TZOFFSETTO:+0100
TZNAME:BST
DTSTART:20240331T010000
END:DAYLIGHT
BEGIN:STANDARD
TZOFFSETFROM:+0100
TZOFFSETTO:+0000
TZNAME:GMT
DTSTART:20241027T010000
END:STANDARD
BEGIN:DAYLIGHT
TZOFFSETFROM:+0000
TZOFFSETTO:+0100
TZNAME:BST
DTSTART:20250330T010000
END:DAYLIGHT
BEGIN:STANDARD
TZOFFSETFROM:+0100
TZOFFSETTO:+0000
TZNAME:GMT
DTSTART:20251026T010000
END:STANDARD
BEGIN:DAYLIGHT
TZOFFSETFROM:+0000
TZOFFSETTO:+0100
TZNAME:BST
DTSTART:20260329T010000
END:DAYLIGHT
BEGIN:STANDARD
TZOFFSETFROM:+0100
TZOFFSETTO:+0000
TZNAME:GMT
DTSTART:20261025T010000
END:STANDARD
BEGIN:DAYLIGHT
TZOFFSETFROM:+0000
TZOFFSETTO:+0100
TZNAME:BST
DTSTART:20270328T010000
END:DAYLIGHT
BEGIN:STANDARD
TZOFFSETFROM:+0100
TZOFFSETTO:+0000
TZNAME:GMT
DTSTART:20271031T010000
END:STANDARD
END:VTIMEZONE
BEGIN:VEVENT
DTSTART;TZID=Europe/London:20260301T093000
DTEND;TZID=Europe/London:20260301T170000
DTSTAMP:20260424T115153
CREATED:20260205T120004Z
LAST-MODIFIED:20260205T120004Z
UID:10000013-1772357400-1772384400@faldonsideeco.com
SUMMARY:🪵 Spoon Carving for Beginners
DESCRIPTION:🪵 Spoon Carving Workshop – Scottish Borders\nLearn to carve your own wooden spoon from locally-sourced green wood in this hands-on workshop at Faldonside Eco\, set in the heart of the Scottish Borders beside the River Tweed. \nThis beginner-friendly green woodworking course takes place in the peaceful woodland at Faldonside Eco and is the perfect introduction to the slow\, satisfying craft of spoon carving. Using traditional tools—including an axe and specialist carving knives—you’ll be guided step by step to shape your own functional\, beautiful spoon from a simple block of wood. \nOver the course of the day\, you’ll learn fundamental carving techniques and take home your very own handmade spoon. It’s a calm\, meditative experience rooted in nature\, perfect for anyone looking to slow down and make something meaningful with their hands. \n\n🔧 What You’ll Learn\n  \n\n\nIntroduction to green woodworking techniques \n\n\nChoosing and sourcing the best wood for carving \n\n\nSafe and effective use of carving tools: axes\, saws\, and knives \n\n\nBasics of spoon design and form \n\n\nHow to “axe out” your spoon shape \n\n\nWhittling and carving techniques for shaping and smoothing \n\n\nFinishing tips: drying\, burnishing\, and oiling \n\n\n\n👥 Course Details\n  \n\n\nGroup size: Maximum 6 participants \n\n\nSkill level: No prior experience required \n\n\nWho it’s for: Adults (18+)\, makers\, creatives\, and nature-lovers \n\n\nLocation: Faldonside Eco\, near Melrose\, Scottish Borders \n\n\n\nWhether you’re looking for a creative day out\, a new sustainable hobby\, or simply a peaceful escape into the woods\, this spoon carving experience in Scotland offers the perfect blend of craft\, calm\, and connection to nature. \nLearn/Event Booking EnquiryInterested in joining one of our hands-on learning events? From eco-construction to foraging and regenerative gardening\, we’d love to welcome you. Fill out the form below to book your place or make an enquiry.Please enable JavaScript in your browser to complete this form.Name *FirstLast		\n			Notes Questions Phone\n			\n		\n		Email *Phone *AddressAddress Line 1Address Line 2CityState / Province / RegionPostal Code--- Select country ---AfghanistanAlbaniaAlgeriaAmerican SamoaAndorraAngolaAnguillaAntarcticaAntigua and BarbudaArgentinaArmeniaArubaAustraliaAustriaAzerbaijanBahamasBahrainBangladeshBarbadosBelarusBelgiumBelizeBeninBermudaBhutanBolivia (Plurinational State of)Bonaire\, Saint Eustatius and SabaBosnia and HerzegovinaBotswanaBouvet IslandBrazilBritish Indian Ocean TerritoryBrunei DarussalamBulgariaBurkina FasoBurundiCabo VerdeCambodiaCameroonCanadaCayman IslandsCentral African RepublicChadChileChinaChristmas IslandCocos (Keeling) IslandsColombiaComorosCongoCongo (Democratic Republic of the)Cook IslandsCosta RicaCroatiaCubaCuraçaoCyprusCzech RepublicCôte d'IvoireDenmarkDjiboutiDominicaDominican RepublicEcuadorEgyptEl SalvadorEquatorial GuineaEritreaEstoniaEswatini (Kingdom of)EthiopiaFalkland Islands (Malvinas)Faroe IslandsFijiFinlandFranceFrench GuianaFrench PolynesiaFrench Southern TerritoriesGabonGambiaGeorgiaGermanyGhanaGibraltarGreeceGreenlandGrenadaGuadeloupeGuamGuatemalaGuernseyGuineaGuinea-BissauGuyanaHaitiHeard Island and McDonald IslandsHondurasHong KongHungaryIcelandIndiaIndonesiaIran (Islamic Republic of)IraqIreland (Republic of)Isle of ManIsraelItalyJamaicaJapanJerseyJordanKazakhstanKenyaKiribatiKorea (Democratic People's Republic of)Korea (Republic of)KosovoKuwaitKyrgyzstanLao People's Democratic RepublicLatviaLebanonLesothoLiberiaLibyaLiechtensteinLithuaniaLuxembourgMacaoMadagascarMalawiMalaysiaMaldivesMaliMaltaMarshall IslandsMartiniqueMauritaniaMauritiusMayotteMexicoMicronesia (Federated States of)Moldova (Republic of)MonacoMongoliaMontenegroMontserratMoroccoMozambiqueMyanmarNamibiaNauruNepalNetherlandsNew CaledoniaNew ZealandNicaraguaNigerNigeriaNiueNorfolk IslandNorth Macedonia (Republic of)Northern Mariana IslandsNorwayOmanPakistanPalauPalestine (State of)PanamaPapua New GuineaParaguayPeruPhilippinesPitcairnPolandPortugalPuerto RicoQatarRomaniaRussian FederationRwandaRéunionSaint BarthélemySaint Helena\, Ascension and Tristan da CunhaSaint Kitts and NevisSaint LuciaSaint Martin (French part)Saint Pierre and MiquelonSaint Vincent and the GrenadinesSamoaSan MarinoSao Tome and PrincipeSaudi ArabiaSenegalSerbiaSeychellesSierra LeoneSingaporeSint Maarten (Dutch part)SlovakiaSloveniaSolomon IslandsSomaliaSouth AfricaSouth Georgia and the South Sandwich IslandsSouth SudanSpainSri LankaSudanSurinameSvalbard and Jan MayenSwedenSwitzerlandSyrian Arab RepublicTaiwan\, Republic of ChinaTajikistanTanzania (United Republic of)ThailandTimor-LesteTogoTokelauTongaTrinidad and TobagoTunisiaTurkmenistanTurks and Caicos IslandsTuvaluTürkiyeUgandaUkraineUnited Arab EmiratesUnited Kingdom of Great Britain and Northern IrelandUnited States Minor Outlying IslandsUnited States of AmericaUruguayUzbekistanVanuatuVatican City StateVenezuela (Bolivarian Republic of)VietnamVirgin Islands (British)Virgin Islands (U.S.)Wallis and FutunaWestern SaharaYemenZambiaZimbabweÅland IslandsCountryNumber of Participants *Learning Event Title *--- Select Choice ---Soil Health Basics: Regenerate Your Soil Naturally - Feb 20th 2026An Introduction to Food Forests - Feb 6th 2026Nature Club with Lisa McLeish - Dec 13th 2025Green Wood Whittling Skills - Dec 4th 2025Foraged Cocktails & Mocktails - Dec 3rd 2025Herbology: Healing with Plants - Dec 1st 2025Spoon Carving for Beginners - Nov 23rd 2025Sustainable Food & Biodiversity - Nov 7th 2025Halloween Forest School Fun - Oct 31st 2025Mindful Nature Photography - Sept 26th 2025Nature-Friendly Gardening: An Introduction - Sept 24th 2025Introduction to Permaculture Gardening - Sept 19th 2025Dietary RequirementsNotes or QuestionsSubmit
URL:https://faldonsideeco.com/event/%f0%9f%aa%b5-spoon-carving-for-beginners/
LOCATION:FaldonsideEco\, FaldonsideEco\, Faldonside Estate\, Melrose\, Scottish Borders\, TD6 9BG\, United Kingdom
CATEGORIES:Woodcraft
ATTACH;FMTTYPE=image/avif:https://faldonsideeco.com/wp-content/uploads/2025/08/8aa407_139d03858ff4490aa12ac7d5f3f0aefcmv2.avif
ORGANIZER;CN="FaldonsideEco":MAILTO:info@faldonsideeco.com
END:VEVENT
BEGIN:VEVENT
DTSTART;TZID=Europe/London:20251123T090000
DTEND;TZID=Europe/London:20251123T170000
DTSTAMP:20260424T115153
CREATED:20250813T120516Z
LAST-MODIFIED:20251009T140541Z
UID:10000001-1763888400-1763917200@faldonsideeco.com
SUMMARY:🪵 Spoon Carving for Beginners
DESCRIPTION:🪵 Spoon Carving Workshop – Scottish Borders\nLearn to carve your own wooden spoon from locally-sourced green wood in this hands-on workshop at Faldonside Eco\, set in the heart of the Scottish Borders beside the River Tweed. \nThis beginner-friendly green woodworking course takes place in the peaceful woodland at Faldonside Eco and is the perfect introduction to the slow\, satisfying craft of spoon carving. Using traditional tools—including an axe and specialist carving knives—you’ll be guided step by step to shape your own functional\, beautiful spoon from a simple block of wood. \nOver the course of the day\, you’ll learn fundamental carving techniques and take home your very own handmade spoon. It’s a calm\, meditative experience rooted in nature\, perfect for anyone looking to slow down and make something meaningful with their hands. \n\n🔧 What You’ll Learn\n  \n\n\nIntroduction to green woodworking techniques \n\n\nChoosing and sourcing the best wood for carving \n\n\nSafe and effective use of carving tools: axes\, saws\, and knives \n\n\nBasics of spoon design and form \n\n\nHow to “axe out” your spoon shape \n\n\nWhittling and carving techniques for shaping and smoothing \n\n\nFinishing tips: drying\, burnishing\, and oiling \n\n\n\n👥 Course Details\n  \n\n\nGroup size: Maximum 6 participants \n\n\nSkill level: No prior experience required \n\n\nWho it’s for: Adults (18+)\, makers\, creatives\, and nature-lovers \n\n\nLocation: Faldonside Eco\, near Melrose\, Scottish Borders \n\n\n\nWhether you’re looking for a creative day out\, a new sustainable hobby\, or simply a peaceful escape into the woods\, this spoon carving experience in Scotland offers the perfect blend of craft\, calm\, and connection to nature. \nLearn/Event Booking EnquiryInterested in joining one of our hands-on learning events? From eco-construction to foraging and regenerative gardening\, we’d love to welcome you. Fill out the form below to book your place or make an enquiry.Please enable JavaScript in your browser to complete this form.Name *FirstLastEmail *		\n			Event Questions Number\n			\n		\n		Phone *AddressAddress Line 1Address Line 2CityState / Province / RegionPostal Code--- Select country ---AfghanistanAlbaniaAlgeriaAmerican SamoaAndorraAngolaAnguillaAntarcticaAntigua and BarbudaArgentinaArmeniaArubaAustraliaAustriaAzerbaijanBahamasBahrainBangladeshBarbadosBelarusBelgiumBelizeBeninBermudaBhutanBolivia (Plurinational State of)Bonaire\, Saint Eustatius and SabaBosnia and HerzegovinaBotswanaBouvet IslandBrazilBritish Indian Ocean TerritoryBrunei DarussalamBulgariaBurkina FasoBurundiCabo VerdeCambodiaCameroonCanadaCayman IslandsCentral African RepublicChadChileChinaChristmas IslandCocos (Keeling) IslandsColombiaComorosCongoCongo (Democratic Republic of the)Cook IslandsCosta RicaCroatiaCubaCuraçaoCyprusCzech RepublicCôte d'IvoireDenmarkDjiboutiDominicaDominican RepublicEcuadorEgyptEl SalvadorEquatorial GuineaEritreaEstoniaEswatini (Kingdom of)EthiopiaFalkland Islands (Malvinas)Faroe IslandsFijiFinlandFranceFrench GuianaFrench PolynesiaFrench Southern TerritoriesGabonGambiaGeorgiaGermanyGhanaGibraltarGreeceGreenlandGrenadaGuadeloupeGuamGuatemalaGuernseyGuineaGuinea-BissauGuyanaHaitiHeard Island and McDonald IslandsHondurasHong KongHungaryIcelandIndiaIndonesiaIran (Islamic Republic of)IraqIreland (Republic of)Isle of ManIsraelItalyJamaicaJapanJerseyJordanKazakhstanKenyaKiribatiKorea (Democratic People's Republic of)Korea (Republic of)KosovoKuwaitKyrgyzstanLao People's Democratic RepublicLatviaLebanonLesothoLiberiaLibyaLiechtensteinLithuaniaLuxembourgMacaoMadagascarMalawiMalaysiaMaldivesMaliMaltaMarshall IslandsMartiniqueMauritaniaMauritiusMayotteMexicoMicronesia (Federated States of)Moldova (Republic of)MonacoMongoliaMontenegroMontserratMoroccoMozambiqueMyanmarNamibiaNauruNepalNetherlandsNew CaledoniaNew ZealandNicaraguaNigerNigeriaNiueNorfolk IslandNorth Macedonia (Republic of)Northern Mariana IslandsNorwayOmanPakistanPalauPalestine (State of)PanamaPapua New GuineaParaguayPeruPhilippinesPitcairnPolandPortugalPuerto RicoQatarRomaniaRussian FederationRwandaRéunionSaint BarthélemySaint Helena\, Ascension and Tristan da CunhaSaint Kitts and NevisSaint LuciaSaint Martin (French part)Saint Pierre and MiquelonSaint Vincent and the GrenadinesSamoaSan MarinoSao Tome and PrincipeSaudi ArabiaSenegalSerbiaSeychellesSierra LeoneSingaporeSint Maarten (Dutch part)SlovakiaSloveniaSolomon IslandsSomaliaSouth AfricaSouth Georgia and the South Sandwich IslandsSouth SudanSpainSri LankaSudanSurinameSvalbard and Jan MayenSwedenSwitzerlandSyrian Arab RepublicTaiwan\, Republic of ChinaTajikistanTanzania (United Republic of)ThailandTimor-LesteTogoTokelauTongaTrinidad and TobagoTunisiaTurkmenistanTurks and Caicos IslandsTuvaluTürkiyeUgandaUkraineUnited Arab EmiratesUnited Kingdom of Great Britain and Northern IrelandUnited States Minor Outlying IslandsUnited States of AmericaUruguayUzbekistanVanuatuVatican City StateVenezuela (Bolivarian Republic of)VietnamVirgin Islands (British)Virgin Islands (U.S.)Wallis and FutunaWestern SaharaYemenZambiaZimbabweÅland IslandsCountryNumber of Participants *Learning Event Title *--- Select Choice ---Soil Health Basics: Regenerate Your Soil Naturally - Feb 20th 2026An Introduction to Food Forests - Feb 6th 2026Nature Club with Lisa McLeish - Dec 13th 2025Green Wood Whittling Skills - Dec 4th 2025Foraged Cocktails & Mocktails - Dec 3rd 2025Herbology: Healing with Plants - Dec 1st 2025Spoon Carving for Beginners - Nov 23rd 2025Sustainable Food & Biodiversity - Nov 7th 2025Halloween Forest School Fun - Oct 31st 2025Mindful Nature Photography - Sept 26th 2025Nature-Friendly Gardening: An Introduction - Sept 24th 2025Introduction to Permaculture Gardening - Sept 19th 2025Dietary RequirementsNotes or QuestionsSubmit
URL:https://faldonsideeco.com/event/spoon-carving-for-beginners/
LOCATION:FaldonsideEco\, FaldonsideEco\, Faldonside Estate\, Melrose\, Scottish Borders\, TD6 9BG\, United Kingdom
CATEGORIES:Woodcraft
ATTACH;FMTTYPE=image/avif:https://faldonsideeco.com/wp-content/uploads/2025/08/8aa407_139d03858ff4490aa12ac7d5f3f0aefcmv2.avif
ORGANIZER;CN="FaldonsideEco":MAILTO:info@faldonsideeco.com
END:VEVENT
BEGIN:VEVENT
DTSTART;TZID=Europe/London:20251031T093000
DTEND;TZID=Europe/London:20251031T113000
DTSTAMP:20260424T115153
CREATED:20250917T104214Z
LAST-MODIFIED:20251009T140615Z
UID:10000012-1761903000-1761910200@faldonsideeco.com
SUMMARY:🎃 Halloween Forest School Fun
DESCRIPTION:Spooky Adventures & Autumn Magic in the Woods\nFaldonside Eco | 31st October 2025 | 9:30am–11:30am\n  \n\nGet ready for a morning of woodland wonder\, spooky stories\, and nature-based fun at our Halloween Forest School 🎃 — held in the heart of Faldonside Eco’s enchanting woodland\, just outside Melrose in the Scottish Borders. \nDesigned for young adventurers and their grown-ups\, this special seasonal session invites children to explore the outdoors\, connect with nature\, and celebrate Halloween the Faldonside way — through play\, creativity\, and imagination. \nRun in partnership with The Green Adventure\, this forest school morning blends sensory exploration with seasonal activities\, and all are designed to encourage confidence\, independence\, and a love of the natural world. \n🕸️ What to Expect: \n\nMini Beast Hunts & Bug Hotel Building – discover the spooky side of the soil!\nWand-Making & Potion Brewing – nature’s ingredients only! 🧙‍♀️\nPumpkin Decorating & Leaf Crown Crafts – take home your Halloween creations 🎨\nSpooky Story Circle by the Fire – with warm drinks and toasted treats 🍂🔥\nWild Play & Trail Exploring – guided by our experienced outdoor educators.\n\nThis is a gentle\, fun and inclusive morning suitable for children aged 3–10 and their families. Parents or guardians are required to stay and enjoy the fun too! Fancy dress is absolutely encouraged (but not required) — think woodland witches\, pumpkin pixies\, or eco-friendly skeletons! \n🌲 Reconnect with nature\, create magical memories\, and let your little ones enjoy the outdoors in a safe and inspiring environment. \n\n📧 Book Your Spot:Spaces are limited – register by completing the form below: \nLearn/Event Booking EnquiryInterested in joining one of our hands-on learning events? From eco-construction to foraging and regenerative gardening\, we’d love to welcome you. Fill out the form below to book your place or make an enquiry.Please enable JavaScript in your browser to complete this form.Name *FirstLast		\n			Number Phone Title\n			\n		\n		Email *Phone *AddressAddress Line 1Address Line 2CityState / Province / RegionPostal Code--- Select country ---AfghanistanAlbaniaAlgeriaAmerican SamoaAndorraAngolaAnguillaAntarcticaAntigua and BarbudaArgentinaArmeniaArubaAustraliaAustriaAzerbaijanBahamasBahrainBangladeshBarbadosBelarusBelgiumBelizeBeninBermudaBhutanBolivia (Plurinational State of)Bonaire\, Saint Eustatius and SabaBosnia and HerzegovinaBotswanaBouvet IslandBrazilBritish Indian Ocean TerritoryBrunei DarussalamBulgariaBurkina FasoBurundiCabo VerdeCambodiaCameroonCanadaCayman IslandsCentral African RepublicChadChileChinaChristmas IslandCocos (Keeling) IslandsColombiaComorosCongoCongo (Democratic Republic of the)Cook IslandsCosta RicaCroatiaCubaCuraçaoCyprusCzech RepublicCôte d'IvoireDenmarkDjiboutiDominicaDominican RepublicEcuadorEgyptEl SalvadorEquatorial GuineaEritreaEstoniaEswatini (Kingdom of)EthiopiaFalkland Islands (Malvinas)Faroe IslandsFijiFinlandFranceFrench GuianaFrench PolynesiaFrench Southern TerritoriesGabonGambiaGeorgiaGermanyGhanaGibraltarGreeceGreenlandGrenadaGuadeloupeGuamGuatemalaGuernseyGuineaGuinea-BissauGuyanaHaitiHeard Island and McDonald IslandsHondurasHong KongHungaryIcelandIndiaIndonesiaIran (Islamic Republic of)IraqIreland (Republic of)Isle of ManIsraelItalyJamaicaJapanJerseyJordanKazakhstanKenyaKiribatiKorea (Democratic People's Republic of)Korea (Republic of)KosovoKuwaitKyrgyzstanLao People's Democratic RepublicLatviaLebanonLesothoLiberiaLibyaLiechtensteinLithuaniaLuxembourgMacaoMadagascarMalawiMalaysiaMaldivesMaliMaltaMarshall IslandsMartiniqueMauritaniaMauritiusMayotteMexicoMicronesia (Federated States of)Moldova (Republic of)MonacoMongoliaMontenegroMontserratMoroccoMozambiqueMyanmarNamibiaNauruNepalNetherlandsNew CaledoniaNew ZealandNicaraguaNigerNigeriaNiueNorfolk IslandNorth Macedonia (Republic of)Northern Mariana IslandsNorwayOmanPakistanPalauPalestine (State of)PanamaPapua New GuineaParaguayPeruPhilippinesPitcairnPolandPortugalPuerto RicoQatarRomaniaRussian FederationRwandaRéunionSaint BarthélemySaint Helena\, Ascension and Tristan da CunhaSaint Kitts and NevisSaint LuciaSaint Martin (French part)Saint Pierre and MiquelonSaint Vincent and the GrenadinesSamoaSan MarinoSao Tome and PrincipeSaudi ArabiaSenegalSerbiaSeychellesSierra LeoneSingaporeSint Maarten (Dutch part)SlovakiaSloveniaSolomon IslandsSomaliaSouth AfricaSouth Georgia and the South Sandwich IslandsSouth SudanSpainSri LankaSudanSurinameSvalbard and Jan MayenSwedenSwitzerlandSyrian Arab RepublicTaiwan\, Republic of ChinaTajikistanTanzania (United Republic of)ThailandTimor-LesteTogoTokelauTongaTrinidad and TobagoTunisiaTurkmenistanTurks and Caicos IslandsTuvaluTürkiyeUgandaUkraineUnited Arab EmiratesUnited Kingdom of Great Britain and Northern IrelandUnited States Minor Outlying IslandsUnited States of AmericaUruguayUzbekistanVanuatuVatican City StateVenezuela (Bolivarian Republic of)VietnamVirgin Islands (British)Virgin Islands (U.S.)Wallis and FutunaWestern SaharaYemenZambiaZimbabweÅland IslandsCountryNumber of Participants *Learning Event Title *--- Select Choice ---Soil Health Basics: Regenerate Your Soil Naturally - Feb 20th 2026An Introduction to Food Forests - Feb 6th 2026Nature Club with Lisa McLeish - Dec 13th 2025Green Wood Whittling Skills - Dec 4th 2025Foraged Cocktails & Mocktails - Dec 3rd 2025Herbology: Healing with Plants - Dec 1st 2025Spoon Carving for Beginners - Nov 23rd 2025Sustainable Food & Biodiversity - Nov 7th 2025Halloween Forest School Fun - Oct 31st 2025Mindful Nature Photography - Sept 26th 2025Nature-Friendly Gardening: An Introduction - Sept 24th 2025Introduction to Permaculture Gardening - Sept 19th 2025Dietary RequirementsNotes or QuestionsSubmit
URL:https://faldonsideeco.com/event/halloween-forest-school-fun/
LOCATION:FaldonsideEco\, FaldonsideEco\, Faldonside Estate\, Melrose\, Scottish Borders\, TD6 9BG\, United Kingdom
CATEGORIES:Kids
ATTACH;FMTTYPE=image/avif:https://faldonsideeco.com/wp-content/uploads/2025/09/Halloween-Dogs.avif
ORGANIZER;CN="FaldonsideEco":MAILTO:info@faldonsideeco.com
END:VEVENT
END:VCALENDAR